Workbook
Name TABLE: Auswertetabelle!#REF!

Sheet CSV
A1: 1 | B1: 8.52 | C1: 345.11 | D1: 38.95 | F1: Kluft nur z.T. erkennbar
A2: 2 | B2: 9.21 | C2: 346.81 | D2: 41.24 | F2: Kluft nur z.T. erkennbar
A3: 3 | B3: 11.67 | C3: 92.69 | D3: 32.22 | F3: Kluft nur z.T. erkennbar
A4: 4 | B4: 13.2 | C4: 18.03 | D4: 32.77 | F4: Kluft nur z.T. erkennbar
A5: 5 | B5: 13.73 | C5: 333.43 | D5: 43.39 | F5: Kluft
A6: 6 | B6: 13.89 | C6: 340.7 | D6: 35.72 | F6: Kluft nur z.T. erkennbar | I6: =COUNTA(A1:A8000)+18 -> 25
A7: 7 | B7: 14.27 | C7: 325.11 | D7: 83.07 | F7: Kluft nur z.T. erkennbar | I7: A1..H
I8: =CONCATENATE(I7,TEXT(I6,0)) -> A1..H25

Sheet Auswertetabelle
C3: Geotechnisches Ingenieurbüro
C4: Prof. Fecker und Partner GmbH
A7: Daten der Trennflächen
A9: Projektnummer: | C9: e-3679
A10: Projekt: | C10: Rhein-Main-Link, PFA HE3
A11: Bohrung: | C11: P07-Phh-BK-0665
A12: Messdatum: | C12: 46315
C15: Bezugsystem untere Halbkugel
A16: Lfd. Nr. der | B16: Teufe | C16: Fallrichtung | E16: Fallwinkel | G16: Kategorie
A17: Trennfläche | B17: [m] | C17: [Grad] | E17: [Grad]
A19: =IF(NOT(ISBLANK(CSV!A1)),CSV!A1,"") -> 1 | B19: =IF(NOT(ISBLANK(CSV!B1)),CSV!B1,"") -> 8.52 | C19: =IF(NOT(ISBLANK(CSV!C1)),CSV!C1,"") -> 345.11 | E19: =IF(NOT(ISBLANK(CSV!D1)),CSV!D1,"") -> 38.95 | F19: =IF(NOT(ISBLANK(CSV!E1)),CSV!E1,"") | G19: =IF(NOT(ISBLANK(CSV!F1)),CSV!F1,"") -> Kluft nur z.T. erkennbar
A20: =IF(NOT(ISBLANK(CSV!A2)),CSV!A2,"") -> 2 | B20: =IF(NOT(ISBLANK(CSV!B2)),CSV!B2,"") -> 9.21 | C20: =IF(NOT(ISBLANK(CSV!C2)),CSV!C2,"") -> 346.81 | E20: =IF(NOT(ISBLANK(CSV!D2)),CSV!D2,"") -> 41.24 | F20: =IF(NOT(ISBLANK(CSV!E2)),CSV!E2,"") | G20: =IF(NOT(ISBLANK(CSV!F2)),CSV!F2,"") -> Kluft nur z.T. erkennbar
A21: =IF(NOT(ISBLANK(CSV!A3)),CSV!A3,"") -> 3 | B21: =IF(NOT(ISBLANK(CSV!B3)),CSV!B3,"") -> 11.67 | C21: =IF(NOT(ISBLANK(CSV!C3)),CSV!C3,"") -> 92.69 | E21: =IF(NOT(ISBLANK(CSV!D3)),CSV!D3,"") -> 32.22 | F21: =IF(NOT(ISBLANK(CSV!E3)),CSV!E3,"") | G21: =IF(NOT(ISBLANK(CSV!F3)),CSV!F3,"") -> Kluft nur z.T. erkennbar
A22: =IF(NOT(ISBLANK(CSV!A4)),CSV!A4,"") -> 4 | B22: =IF(NOT(ISBLANK(CSV!B4)),CSV!B4,"") -> 13.2 | C22: =IF(NOT(ISBLANK(CSV!C4)),CSV!C4,"") -> 18.03 | E22: =IF(NOT(ISBLANK(CSV!D4)),CSV!D4,"") -> 32.77 | F22: =IF(NOT(ISBLANK(CSV!E4)),CSV!E4,"") | G22: =IF(NOT(ISBLANK(CSV!F4)),CSV!F4,"") -> Kluft nur z.T. erkennbar
A23: =IF(NOT(ISBLANK(CSV!A5)),CSV!A5,"") -> 5 | B23: =IF(NOT(ISBLANK(CSV!B5)),CSV!B5,"") -> 13.73 | C23: =IF(NOT(ISBLANK(CSV!C5)),CSV!C5,"") -> 333.43 | E23: =IF(NOT(ISBLANK(CSV!D5)),CSV!D5,"") -> 43.39 | F23: =IF(NOT(ISBLANK(CSV!E5)),CSV!E5,"") | G23: =IF(NOT(ISBLANK(CSV!F5)),CSV!F5,"") -> Kluft
A24: =IF(NOT(ISBLANK(CSV!A6)),CSV!A6,"") -> 6 | B24: =IF(NOT(ISBLANK(CSV!B6)),CSV!B6,"") -> 13.89 | C24: =IF(NOT(ISBLANK(CSV!C6)),CSV!C6,"") -> 340.7 | E24: =IF(NOT(ISBLANK(CSV!D6)),CSV!D6,"") -> 35.72 | F24: =IF(NOT(ISBLANK(CSV!E6)),CSV!E6,"") | G24: =IF(NOT(ISBLANK(CSV!F6)),CSV!F6,"") -> Kluft nur z.T. erkennbar
A25: =IF(NOT(ISBLANK(CSV!A7)),CSV!A7,"") -> 7 | B25: =IF(NOT(ISBLANK(CSV!B7)),CSV!B7,"") -> 14.27 | C25: =IF(NOT(ISBLANK(CSV!C7)),CSV!C7,"") -> 325.11 | E25: =IF(NOT(ISBLANK(CSV!D7)),CSV!D7,"") -> 83.07 | F25: =IF(NOT(ISBLANK(CSV!E7)),CSV!E7,"") | G25: =IF(NOT(ISBLANK(CSV!F7)),CSV!F7,"") -> Kluft nur z.T. erkennbar
A26: =IF(NOT(ISBLANK(CSV!A8)),CSV!A8,"") | B26: =IF(NOT(ISBLANK(CSV!B8)),CSV!B8,"") | C26: =IF(NOT(ISBLANK(CSV!C8)),CSV!C8,"") | E26: =IF(NOT(ISBLANK(CSV!D8)),CSV!D8,"") | F26: =IF(NOT(ISBLANK(CSV!E8)),CSV!E8,"") | G26: =IF(NOT(ISBLANK(CSV!F8)),CSV!F8,"")
A27: =IF(NOT(ISBLANK(CSV!A9)),CSV!A9,"") | B27: =IF(NOT(ISBLANK(CSV!B9)),CSV!B9,"") | C27: =IF(NOT(ISBLANK(CSV!C9)),CSV!C9,"") | E27: =IF(NOT(ISBLANK(CSV!D9)),CSV!D9,"") | F27: =IF(NOT(ISBLANK(CSV!E9)),CSV!E9,"") | G27: =IF(NOT(ISBLANK(CSV!F9)),CSV!F9,"")
A28: =IF(NOT(ISBLANK(CSV!A10)),CSV!A10,"") | B28: =IF(NOT(ISBLANK(CSV!B10)),CSV!B10,"") | C28: =IF(NOT(ISBLANK(CSV!C10)),CSV!C10,"") | E28: =IF(NOT(ISBLANK(CSV!D10)),CSV!D10,"") | F28: =IF(NOT(ISBLANK(CSV!E10)),CSV!E10,"") | G28: =IF(NOT(ISBLANK(CSV!F10)),CSV!F10,"")
A29: =IF(NOT(ISBLANK(CSV!A11)),CSV!A11,"") | B29: =IF(NOT(ISBLANK(CSV!B11)),CSV!B11,"") | C29: =IF(NOT(ISBLANK(CSV!C11)),CSV!C11,"") | E29: =IF(NOT(ISBLANK(CSV!D11)),CSV!D11,"") | F29: =IF(NOT(ISBLANK(CSV!E11)),CSV!E11,"") | G29: =IF(NOT(ISBLANK(CSV!F11)),CSV!F11,"")
A30: =IF(NOT(ISBLANK(CSV!A12)),CSV!A12,"") | B30: =IF(NOT(ISBLANK(CSV!B12)),CSV!B12,"") | C30: =IF(NOT(ISBLANK(CSV!C12)),CSV!C12,"") | E30: =IF(NOT(ISBLANK(CSV!D12)),CSV!D12,"") | F30: =IF(NOT(ISBLANK(CSV!E12)),CSV!E12,"") | G30: =IF(NOT(ISBLANK(CSV!F12)),CSV!F12,"")
... A4137: =IF(NOT(ISBLANK(CSV!A4119)),CSV!A4119,"") | B4137: =IF(NOT(ISBLANK(CSV!B4119)),CSV!B4119,"") | C4137: =IF(NOT(ISBLANK(CSV!C4119)),CSV!C4119,"") | E4137: =IF(NOT(ISBLANK(CSV!D4119)),CSV!D4119,"") | F4137: =IF(NOT(ISBLANK(CSV!E4119)),CSV!E4119,"") | G4137: =IF(NOT(ISBLANK(CSV!F4119)),CSV!F4119,"")
